BEGIN:VCALENDAR
VERSION:2.0
PRODID:-//Blue Valley Vineyard - ECPv6.15.20//NONSGML v1.0//EN
CALSCALE:GREGORIAN
METHOD:PUBLISH
X-WR-CALNAME:Blue Valley Vineyard
X-ORIGINAL-URL:https://bluevalleyvineyardandwinery.com
X-WR-CALDESC:Events for Blue Valley Vineyard
REFRESH-INTERVAL;VALUE=DURATION:PT1H
X-Robots-Tag:noindex
X-PUBLISHED-TTL:PT1H
BEGIN:VTIMEZONE
TZID:America/New_York
BEGIN:DAYLIGHT
TZOFFSETFROM:-0500
TZOFFSETTO:-0400
TZNAME:EDT
DTSTART:20220313T070000
END:DAYLIGHT
BEGIN:STANDARD
TZOFFSETFROM:-0400
TZOFFSETTO:-0500
TZNAME:EST
DTSTART:20221106T060000
END:STANDARD
BEGIN:DAYLIGHT
TZOFFSETFROM:-0500
TZOFFSETTO:-0400
TZNAME:EDT
DTSTART:20230312T070000
END:DAYLIGHT
BEGIN:STANDARD
TZOFFSETFROM:-0400
TZOFFSETTO:-0500
TZNAME:EST
DTSTART:20231105T060000
END:STANDARD
BEGIN:DAYLIGHT
TZOFFSETFROM:-0500
TZOFFSETTO:-0400
TZNAME:EDT
DTSTART:20240310T070000
END:DAYLIGHT
BEGIN:STANDARD
TZOFFSETFROM:-0400
TZOFFSETTO:-0500
TZNAME:EST
DTSTART:20241103T060000
END:STANDARD
END:VTIMEZONE
BEGIN:VEVENT
DTSTART;TZID=America/New_York:20231209T080000
DTEND;TZID=America/New_York:20231209T170000
DTSTAMP:20260424T191940
CREATED:20231205T210016Z
LAST-MODIFIED:20231205T210016Z
UID:3878-1702108800-1702141200@bluevalleyvineyardandwinery.com
SUMMARY:Music - John Sweet Solo
DESCRIPTION:
URL:https://bluevalleyvineyardandwinery.com/event/music-john-sweet-solo/
CATEGORIES:Live Music
END:VEVENT
BEGIN:VEVENT
DTSTART;TZID=America/New_York:20231209T123000
DTEND;TZID=America/New_York:20231209T163000
DTSTAMP:20260424T191940
CREATED:20230808T165029Z
LAST-MODIFIED:20230808T165029Z
UID:3725-1702125000-1702139400@bluevalleyvineyardandwinery.com
SUMMARY:Music - John Sweet
DESCRIPTION:
URL:https://bluevalleyvineyardandwinery.com/event/music-john-sweet/
CATEGORIES:Live Music
END:VEVENT
END:VCALENDAR