BEGIN:VCALENDAR
VERSION:2.0
PRODID:-//Blue Valley Vineyard - ECPv6.15.20//NONSGML v1.0//EN
CALSCALE:GREGORIAN
METHOD:PUBLISH
X-ORIGINAL-URL:https://bluevalleyvineyardandwinery.com
X-WR-CALDESC:Events for Blue Valley Vineyard
REFRESH-INTERVAL;VALUE=DURATION:PT1H
X-Robots-Tag:noindex
X-PUBLISHED-TTL:PT1H
BEGIN:VTIMEZONE
TZID:America/New_York
BEGIN:DAYLIGHT
TZOFFSETFROM:-0500
TZOFFSETTO:-0400
TZNAME:EDT
DTSTART:20250309T070000
END:DAYLIGHT
BEGIN:STANDARD
TZOFFSETFROM:-0400
TZOFFSETTO:-0500
TZNAME:EST
DTSTART:20251102T060000
END:STANDARD
BEGIN:DAYLIGHT
TZOFFSETFROM:-0500
TZOFFSETTO:-0400
TZNAME:EDT
DTSTART:20260308T070000
END:DAYLIGHT
BEGIN:STANDARD
TZOFFSETFROM:-0400
TZOFFSETTO:-0500
TZNAME:EST
DTSTART:20261101T060000
END:STANDARD
BEGIN:DAYLIGHT
TZOFFSETFROM:-0500
TZOFFSETTO:-0400
TZNAME:EDT
DTSTART:20270314T070000
END:DAYLIGHT
BEGIN:STANDARD
TZOFFSETFROM:-0400
TZOFFSETTO:-0500
TZNAME:EST
DTSTART:20271107T060000
END:STANDARD
END:VTIMEZONE
BEGIN:VEVENT
DTSTART;TZID=America/New_York:20260425T130000
DTEND;TZID=America/New_York:20260425T160000
DTSTAMP:20260423T073654
CREATED:20260328T141132Z
LAST-MODIFIED:20260328T141132Z
UID:4822-1777122000-1777132800@bluevalleyvineyardandwinery.com
SUMMARY:Gypsy Rose
DESCRIPTION:
URL:https://bluevalleyvineyardandwinery.com/event/gypsy-rose-6/
CATEGORIES:Live Music
END:VEVENT
BEGIN:VEVENT
DTSTART;TZID=America/New_York:20260426T133000
DTEND;TZID=America/New_York:20260426T173000
DTSTAMP:20260423T073654
CREATED:20260328T141133Z
LAST-MODIFIED:20260328T141133Z
UID:4823-1777210200-1777224600@bluevalleyvineyardandwinery.com
SUMMARY:Ron Hamrick
DESCRIPTION:
URL:https://bluevalleyvineyardandwinery.com/event/ron-hamrick-4/
CATEGORIES:Live Music
END:VEVENT
BEGIN:VEVENT
DTSTART;TZID=America/New_York:20260502T130000
DTEND;TZID=America/New_York:20260502T170000
DTSTAMP:20260423T073654
CREATED:20260422T161514Z
LAST-MODIFIED:20260422T161514Z
UID:4877-1777726800-1777741200@bluevalleyvineyardandwinery.com
SUMMARY:Outtakes Group
DESCRIPTION:
URL:https://bluevalleyvineyardandwinery.com/event/outtakes-group/
CATEGORIES:Live Music
END:VEVENT
BEGIN:VEVENT
DTSTART;TZID=America/New_York:20260503T133000
DTEND;TZID=America/New_York:20260503T173000
DTSTAMP:20260423T073654
CREATED:20260422T161515Z
LAST-MODIFIED:20260422T161515Z
UID:4878-1777815000-1777829400@bluevalleyvineyardandwinery.com
SUMMARY:Brook Yoder
DESCRIPTION:
URL:https://bluevalleyvineyardandwinery.com/event/brook-yoder-4/
CATEGORIES:Live Music
END:VEVENT
BEGIN:VEVENT
DTSTART;TZID=America/New_York:20260509T133000
DTEND;TZID=America/New_York:20260509T173000
DTSTAMP:20260423T073654
CREATED:20260422T161516Z
LAST-MODIFIED:20260422T161516Z
UID:4879-1778333400-1778347800@bluevalleyvineyardandwinery.com
SUMMARY:Gary Jay and the Fireballs
DESCRIPTION:
URL:https://bluevalleyvineyardandwinery.com/event/gary-jay-and-the-fireballs/
CATEGORIES:Live Music
END:VEVENT
BEGIN:VEVENT
DTSTART;TZID=America/New_York:20260510T133000
DTEND;TZID=America/New_York:20260510T173000
DTSTAMP:20260423T073654
CREATED:20260422T161517Z
LAST-MODIFIED:20260422T161517Z
UID:4880-1778419800-1778434200@bluevalleyvineyardandwinery.com
SUMMARY:Blast Daddies Band
DESCRIPTION:
URL:https://bluevalleyvineyardandwinery.com/event/blast-daddies-band/
CATEGORIES:Live Music
END:VEVENT
BEGIN:VEVENT
DTSTART;TZID=America/New_York:20260517T133000
DTEND;TZID=America/New_York:20260517T173000
DTSTAMP:20260423T073654
CREATED:20260422T161518Z
LAST-MODIFIED:20260422T161518Z
UID:4881-1779024600-1779039000@bluevalleyvineyardandwinery.com
SUMMARY:Jeremiah Prophett
DESCRIPTION:
URL:https://bluevalleyvineyardandwinery.com/event/jeremiah-prophett-2/
CATEGORIES:Live Music
END:VEVENT
BEGIN:VEVENT
DTSTART;TZID=America/New_York:20260523T133000
DTEND;TZID=America/New_York:20260523T173000
DTSTAMP:20260423T073654
CREATED:20260422T161522Z
LAST-MODIFIED:20260422T161522Z
UID:4882-1779543000-1779557400@bluevalleyvineyardandwinery.com
SUMMARY:Blast Daddies
DESCRIPTION:
URL:https://bluevalleyvineyardandwinery.com/event/blast-daddies-2/
CATEGORIES:Live Music
END:VEVENT
BEGIN:VEVENT
DTSTART;TZID=America/New_York:20260524T133000
DTEND;TZID=America/New_York:20260524T173000
DTSTAMP:20260423T073654
CREATED:20260422T161523Z
LAST-MODIFIED:20260422T161523Z
UID:4883-1779629400-1779643800@bluevalleyvineyardandwinery.com
SUMMARY:Odrey The Country Band
DESCRIPTION:
URL:https://bluevalleyvineyardandwinery.com/event/odrey-the-country-band/
CATEGORIES:Live Music
END:VEVENT
BEGIN:VEVENT
DTSTART;TZID=America/New_York:20260530T133000
DTEND;TZID=America/New_York:20260530T173000
DTSTAMP:20260423T073654
CREATED:20260422T161524Z
LAST-MODIFIED:20260422T161524Z
UID:4884-1780147800-1780162200@bluevalleyvineyardandwinery.com
SUMMARY:Karl Stoll
DESCRIPTION:
URL:https://bluevalleyvineyardandwinery.com/event/karl-stoll-2/
CATEGORIES:Live Music
END:VEVENT
BEGIN:VEVENT
DTSTART;TZID=America/New_York:20260531T133000
DTEND;TZID=America/New_York:20260531T173000
DTSTAMP:20260423T073654
CREATED:20260422T161525Z
LAST-MODIFIED:20260422T161525Z
UID:4885-1780234200-1780248600@bluevalleyvineyardandwinery.com
SUMMARY:Shane Gamble
DESCRIPTION:
URL:https://bluevalleyvineyardandwinery.com/event/shane-gamble-2/
CATEGORIES:Live Music
END:VEVENT
END:VCALENDAR