BEGIN:VCALENDAR
VERSION:2.0
PRODID:-//Blue Valley Vineyard - ECPv6.15.20//NONSGML v1.0//EN
CALSCALE:GREGORIAN
METHOD:PUBLISH
X-ORIGINAL-URL:https://bluevalleyvineyardandwinery.com
X-WR-CALDESC:Events for Blue Valley Vineyard
REFRESH-INTERVAL;VALUE=DURATION:PT1H
X-Robots-Tag:noindex
X-PUBLISHED-TTL:PT1H
BEGIN:VTIMEZONE
TZID:America/New_York
BEGIN:DAYLIGHT
TZOFFSETFROM:-0500
TZOFFSETTO:-0400
TZNAME:EDT
DTSTART:20230312T070000
END:DAYLIGHT
BEGIN:STANDARD
TZOFFSETFROM:-0400
TZOFFSETTO:-0500
TZNAME:EST
DTSTART:20231105T060000
END:STANDARD
BEGIN:DAYLIGHT
TZOFFSETFROM:-0500
TZOFFSETTO:-0400
TZNAME:EDT
DTSTART:20240310T070000
END:DAYLIGHT
BEGIN:STANDARD
TZOFFSETFROM:-0400
TZOFFSETTO:-0500
TZNAME:EST
DTSTART:20241103T060000
END:STANDARD
BEGIN:DAYLIGHT
TZOFFSETFROM:-0500
TZOFFSETTO:-0400
TZNAME:EDT
DTSTART:20250309T070000
END:DAYLIGHT
BEGIN:STANDARD
TZOFFSETFROM:-0400
TZOFFSETTO:-0500
TZNAME:EST
DTSTART:20251102T060000
END:STANDARD
END:VTIMEZONE
BEGIN:VEVENT
DTSTART;TZID=America/New_York:20240504T130000
DTEND;TZID=America/New_York:20240504T170000
DTSTAMP:20260424T101928
CREATED:20240320T175126Z
LAST-MODIFIED:20240320T175126Z
UID:3935-1714827600-1714842000@bluevalleyvineyardandwinery.com
SUMMARY:Mystery Machine
DESCRIPTION:
URL:https://bluevalleyvineyardandwinery.com/event/mystery-machine/
CATEGORIES:Live Music
END:VEVENT
BEGIN:VEVENT
DTSTART;TZID=America/New_York:20240505T130000
DTEND;TZID=America/New_York:20240505T170000
DTSTAMP:20260424T101928
CREATED:20240320T175128Z
LAST-MODIFIED:20240320T175128Z
UID:3936-1714914000-1714928400@bluevalleyvineyardandwinery.com
SUMMARY:Kristen Gibbs
DESCRIPTION:
URL:https://bluevalleyvineyardandwinery.com/event/kristen-gibbs/
CATEGORIES:Live Music
END:VEVENT
BEGIN:VEVENT
DTSTART;TZID=America/New_York:20240511T130000
DTEND;TZID=America/New_York:20240511T170000
DTSTAMP:20260424T101928
CREATED:20240320T175128Z
LAST-MODIFIED:20240320T175128Z
UID:3937-1715432400-1715446800@bluevalleyvineyardandwinery.com
SUMMARY:Shree
DESCRIPTION:
URL:https://bluevalleyvineyardandwinery.com/event/shree-2/
CATEGORIES:Live Music
END:VEVENT
BEGIN:VEVENT
DTSTART;TZID=America/New_York:20240512T130000
DTEND;TZID=America/New_York:20240512T170000
DTSTAMP:20260424T101928
CREATED:20240320T175128Z
LAST-MODIFIED:20240320T175128Z
UID:3938-1715518800-1715533200@bluevalleyvineyardandwinery.com
SUMMARY:Deja Blue
DESCRIPTION:
URL:https://bluevalleyvineyardandwinery.com/event/deja-blue-2/
CATEGORIES:Live Music
END:VEVENT
BEGIN:VEVENT
DTSTART;TZID=America/New_York:20240518T130000
DTEND;TZID=America/New_York:20240518T170000
DTSTAMP:20260424T101928
CREATED:20240320T175129Z
LAST-MODIFIED:20240320T175129Z
UID:3939-1716037200-1716051600@bluevalleyvineyardandwinery.com
SUMMARY:David Davol
DESCRIPTION:
URL:https://bluevalleyvineyardandwinery.com/event/david-davol-2/
CATEGORIES:Live Music
END:VEVENT
BEGIN:VEVENT
DTSTART;TZID=America/New_York:20240519T130000
DTEND;TZID=America/New_York:20240519T170000
DTSTAMP:20260424T101928
CREATED:20240320T175129Z
LAST-MODIFIED:20240320T175129Z
UID:3940-1716123600-1716138000@bluevalleyvineyardandwinery.com
SUMMARY:Gary Jay and the Fire Band
DESCRIPTION:
URL:https://bluevalleyvineyardandwinery.com/event/gary-jay-and-the-fire-band-2/
CATEGORIES:Live Music
END:VEVENT
BEGIN:VEVENT
DTSTART;TZID=America/New_York:20240525T120000
DTEND;TZID=America/New_York:20240525T160000
DTSTAMP:20260424T101928
CREATED:20240320T175142Z
LAST-MODIFIED:20240320T175142Z
UID:3941-1716638400-1716652800@bluevalleyvineyardandwinery.com
SUMMARY:Willie White Band
DESCRIPTION:
URL:https://bluevalleyvineyardandwinery.com/event/willie-white-band/
CATEGORIES:Live Music
END:VEVENT
BEGIN:VEVENT
DTSTART;TZID=America/New_York:20240526T130000
DTEND;TZID=America/New_York:20240526T170000
DTSTAMP:20260424T101928
CREATED:20240320T175142Z
LAST-MODIFIED:20240320T175142Z
UID:3942-1716728400-1716742800@bluevalleyvineyardandwinery.com
SUMMARY:Accoustic Ayre
DESCRIPTION:
URL:https://bluevalleyvineyardandwinery.com/event/accoustic-ayre/
CATEGORIES:Live Music
END:VEVENT
END:VCALENDAR